BEGIN:VCALENDAR
VERSION:2.0
PRODID:icalendar-ruby
CALSCALE:GREGORIAN
METHOD:PUBLISH
BEGIN:VEVENT
DTSTAMP:20260422T022403Z
UID:9-853289@calvarytabernacle.church
DTSTART:20260924T233000Z
DTEND:20260925T003000Z
CLASS:PUBLIC
CREATED:20260421T195842
DESCRIPTION:
LAST-MODIFIED:20260421T195842
LOCATION:
SUMMARY:Midweek Bible Study
URL;VALUE=URI:https://www.calvarytabernacle.church/events/midweek-bible-stu
 dy/2026-09-24
ATTACH;FILENAME=IMG_2515.jpeg;FMTTYPE=image/jpeg:https://dq5pwpg1q8ru0.clou
 dfront.net/2025/02/08/06/22/22/8d37de01-d9c6-4985-ac07-c0acd1b680f9/IMG_25
 15.jpeg
END:VEVENT
END:VCALENDAR
