BEGIN:VCALENDAR
VERSION:2.0
PRODID:icalendar-ruby
CALSCALE:GREGORIAN
METHOD:PUBLISH
BEGIN:VEVENT
DTSTAMP:20260424T111650Z
UID:9-862461@calvarytabernacle.church
DTSTART:20261022T233000Z
DTEND:20261023T003000Z
CLASS:PUBLIC
CREATED:20260423T213629
DESCRIPTION:
LAST-MODIFIED:20260423T213629
LOCATION:
SUMMARY:Midweek Bible Study
URL;VALUE=URI:https://www.calvarytabernacle.church/events/midweek-bible-stu
 dy/2026-10-22
ATTACH;FILENAME=IMG_2515.jpeg;FMTTYPE=image/jpeg:https://dq5pwpg1q8ru0.clou
 dfront.net/2025/02/08/06/22/22/8d37de01-d9c6-4985-ac07-c0acd1b680f9/IMG_25
 15.jpeg
END:VEVENT
END:VCALENDAR
