BEGIN:VCALENDAR
VERSION:2.0
PRODID:icalendar-ruby
CALSCALE:GREGORIAN
METHOD:PUBLISH
BEGIN:VEVENT
DTSTAMP:20260424T123802Z
UID:9-863227@calvarytabernacle.church
DTSTART:20261029T233000Z
DTEND:20261030T003000Z
CLASS:PUBLIC
CREATED:20260424T070455
DESCRIPTION:
LAST-MODIFIED:20260424T070455
LOCATION:
SUMMARY:Midweek Bible Study
URL;VALUE=URI:https://www.calvarytabernacle.church/events/midweek-bible-stu
 dy/2026-10-29
ATTACH;FILENAME=IMG_2515.jpeg;FMTTYPE=image/jpeg:https://dq5pwpg1q8ru0.clou
 dfront.net/2025/02/08/06/22/22/8d37de01-d9c6-4985-ac07-c0acd1b680f9/IMG_25
 15.jpeg
END:VEVENT
END:VCALENDAR
